BEGIN:VCALENDAR
VERSION:2.0
PRODID:-//hacksw/handcal//NONSGML v1.0//EN
BEGIN:VEVENT
DTSTART:20260611T170000Z
DTEND:20260611T200000Z
LOCATION:CASABEA - Cuisine méditerranéenne, Lyon
ORGANIZER;CN=Camille Jacqueline:MAILTO:camjacqueline.pro@gmail.com
SUMMARY:D&D in Lyon
DESCRIPTION:Join us for the D&D in Lyon : \nWHEN : 11th of June at 19:00 WHERE :  https://maps.app.goo.gl/QXXcZMJqPJLQw4gs7?g_st=aw\nBring your colleagues if they are cool ;) 
URL:https://www.epietalumni.net/en/event/d-d-in-lyon/2026/06/11/81
BEGIN:VALARM
TRIGGER:-P0DT1H0M0S
ACTION:DISPLAY
END:VALARM
END:VEVENT
END:VCALENDAR